BEGIN:VCALENDAR
VERSION:2.0
PRODID:-//Surpora Sparks Thomas Ministries - ECPv5.8.1//NONSGML v1.0//EN
CALSCALE:GREGORIAN
METHOD:PUBLISH
X-WR-CALNAME:Surpora Sparks Thomas Ministries
X-ORIGINAL-URL:https://www.surporasparksthomas.com
X-WR-CALDESC:Events for Surpora Sparks Thomas Ministries
BEGIN:VTIMEZONE
TZID:America/Chicago
BEGIN:DAYLIGHT
TZOFFSETFROM:-0600
TZOFFSETTO:-0500
TZNAME:CDT
DTSTART:20150308T080000
END:DAYLIGHT
BEGIN:STANDARD
TZOFFSETFROM:-0500
TZOFFSETTO:-0600
TZNAME:CST
DTSTART:20151101T070000
END:STANDARD
END:VTIMEZONE
BEGIN:VEVENT
DTSTART;TZID=America/Chicago:20150221T110000
DTEND;TZID=America/Chicago:20150221T143000
DTSTAMP:20260419T101040
CREATED:20150106T223658Z
LAST-MODIFIED:20150106T223658Z
UID:640-1424516400-1424529000@www.surporasparksthomas.com
SUMMARY:Book Signing Event
DESCRIPTION:
URL:https://www.surporasparksthomas.com/calendar/book-signing-event-2/
LOCATION:Christian Way Bookstore\, 618 19th Street\, North\, Bessemer\, AL\, 35020\, United States
END:VEVENT
END:VCALENDAR