BEGIN:VCALENDAR
VERSION:2.0
PRODID:-//Surpora Sparks Thomas Ministries - ECPv5.8.1//NONSGML v1.0//EN
CALSCALE:GREGORIAN
METHOD:PUBLISH
X-WR-CALNAME:Surpora Sparks Thomas Ministries
X-ORIGINAL-URL:https://www.surporasparksthomas.com
X-WR-CALDESC:Events for Surpora Sparks Thomas Ministries
BEGIN:VTIMEZONE
TZID:America/Chicago
BEGIN:DAYLIGHT
TZOFFSETFROM:-0600
TZOFFSETTO:-0500
TZNAME:CDT
DTSTART:20150308T080000
END:DAYLIGHT
BEGIN:STANDARD
TZOFFSETFROM:-0500
TZOFFSETTO:-0600
TZNAME:CST
DTSTART:20151101T070000
END:STANDARD
END:VTIMEZONE
BEGIN:VEVENT
DTSTART;TZID=America/Chicago:20150315T110000
DTEND;TZID=America/Chicago:20150315T230000
DTSTAMP:20260419T083948
CREATED:20150108T211600Z
LAST-MODIFIED:20150225T055917Z
UID:643-1426417200-1426460400@www.surporasparksthomas.com
SUMMARY:Men & Women Day Observation for: The New First Baptist Church of Village Springs
DESCRIPTION:Men & Women Day Observation for:\nThe New First Baptist Church of Village Springs\nRev. Sedric G. Mitchell\, Pastor
URL:https://www.surporasparksthomas.com/calendar/speaking-event/
LOCATION:The New First Baptist Church of Village Springs\, 9561 Railroad Avenue\,  Pinson\, \, AL\, 35126\, United States
END:VEVENT
END:VCALENDAR